BEGIN:VCALENDAR
VERSION:2.0
PRODID:iCalendar-Evo
X-WR-TIMEZONE:US/Eastern
BEGIN:VEVENT
DTSTAMP:20260420THI4506Z
URL:https://www.nutleynj.org/events/99045/
DTSTART;TZID=US/Eastern:20260517T100000
DTEND;TZID=US/Eastern:20260517T140000
SUMMARY:Nutley Spring Farmers Market
DESCRIPTION: As the 17th season of the Nutley Farmers Market approaches, with opening day on June 14, please join us on Sunday, May 17 from 10am to 2pm for a special Spring Market featuring an exciting line-up of farmers, food companies, and purveyors of goods, including old friends and new! Stay in-the-know by following the Market on Facebook, Instagram, and Twitter. The Spring Market will take place in our new location along Booth Drive.  Parking is also available in the Nutley High School Parking Lot and along Franklin Avenue which is a few steps away from the market.. Questions? Interested in becoming a season vendor or musical guest? Contact Market Manager Meredith Blank at farmersmarket@nutleynj.org or 973-284-4978. See you at the Spring Market!  
LOCATION:Booth Drive at Booth Drive, Nutley, New Jersey 07110
GEO:40.8223;-74.15989999999998
UID:79439e47-0492-4ea7-9d3d-f739e34eeb5c20260517T140000@www.nutleynj.org
END:VEVENT
END:VCALENDAR