BEGIN:VCALENDAR
VERSION:2.0
PRODID:iCalendar-Evo
X-WR-TIMEZONE:US/Eastern
BEGIN:VEVENT
DTSTAMP:20260420THI0111Z
URL:https://www.nutleynj.org/events/99042/
DTSTART;TZID=US/Eastern:20260418T090000
DTEND;TZID=US/Eastern:20260418T130000
SUMMARY:Compost Day
DESCRIPTION:Learn about the many benefits of composting at home and how you can make an environmental difference in the community! Demonstration by local Rutgers Master Gardener. Compost will be available (bring your own bags and shovels). Please Note! Due to the popularity of this program, a limit of 5 leaf bags OR 2 garbage cans full of compost, per household! 
LOCATION:Public Works / Water Department at 1 Cortland Street, Nutley, New Jersey 07110
GEO:40.80968299999996;-74.16801099999992
UID:42f8eead-657f-4c41-badb-c2a4761b2bd920260418T130000@www.nutleynj.org
END:VEVENT
END:VCALENDAR