BEGIN:VCALENDAR
VERSION:2.0
PRODID:iCalendar-Evo
X-WR-TIMEZONE:US/Eastern
BEGIN:VEVENT
DTSTAMP:20260425THI1253Z
URL:https://www.nutleynj.org/events/98557/
DTSTART;TZID=US/Eastern:20260310T133000
DTEND;TZID=US/Eastern:20260310T150000
SUMMARY:Blood Pressure Screening
DESCRIPTION:Offered every Tuesday from 1:30pm - 3:00pm.  No registration required. For more information, please contact the Nutley Health Department at 973-284-4976 
LOCATION:Public Affairs / Health Department at 149 Chestnut Street, Nutley, New Jersey 07110
GEO:40.81778299999994;-74.15483499999993
UID:d399daab-b7da-45bb-8f5f-ca87729ccc4420260310T173000@www.nutleynj.org
END:VEVENT
END:VCALENDAR