BEGIN:VCALENDAR
VERSION:2.0
PRODID:iCalendar-Evo
X-WR-TIMEZONE:US/Eastern
BEGIN:VEVENT
DTSTAMP:20260419THI1006Z
URL:https://www.nutleynj.org/events/94481/
DTSTART;TZID=US/Eastern:20251024T183000
DTEND;TZID=US/Eastern:20251024T203000
SUMMARY:Spooktacular Halloween Party
DESCRIPTION:The Parks and Recreation Department presents a fun night filled with Halloween snacks, drinks, a hayride, and plenty more! 
LOCATION:Parks and Recreation Department at 44 Park Avenue, Nutley, New Jersey 07110
GEO:40.81079659999996;-74.14231899999992
UID:42dae5ea-07db-4f33-86df-fd67d7adb21520251024T223000@www.nutleynj.org
END:VEVENT
END:VCALENDAR